BEGIN:VCALENDAR
VERSION:2.0
PRODID:-// - ECPv6.15.20//NONSGML v1.0//EN
CALSCALE:GREGORIAN
METHOD:PUBLISH
X-ORIGINAL-URL:https://saara-alysa.com
X-WR-CALDESC:Events for 
REFRESH-INTERVAL;VALUE=DURATION:PT1H
X-Robots-Tag:noindex
X-PUBLISHED-TTL:PT1H
BEGIN:VTIMEZONE
TZID:UTC
BEGIN:STANDARD
TZOFFSETFROM:+0000
TZOFFSETTO:+0000
TZNAME:UTC
DTSTART:20240101T000000
END:STANDARD
END:VTIMEZONE
BEGIN:VEVENT
DTSTART;TZID=UTC:20250222T120000
DTEND;TZID=UTC:20250222T150000
DTSTAMP:20260423T020030
CREATED:20250131T225815Z
LAST-MODIFIED:20250202T084125Z
UID:7547-1740225600-1740236400@saara-alysa.com
SUMMARY:🔥 Fire Within: Women’s Circle🔥
DESCRIPTION:There is undeniable power when women come together—creating a sacred container to support\, uplift\, and truly see one another. \nFire Within is a women’s gathering created to help you connect with your authenticity and reclaim your personal power by embracing your truest self. This way of being is rooted in feminine empowerment\, allowing your strength to emerge from within—from the true essence of who you are. \nIn this nurturing space\, your authenticity is held and supported by other women\, allowing it to bloom fully into its radiant glory. \nSharing this sacred space with other women is a transformative experience—a powerful medicine. To be truly seen and heard by other women\, we create unbreakable bonds of sisterhood\, celebrating and uplifting one another’s unique essence. \nJoin us and connect with your fire within. Step into your light and feel the power of connection. \n  \nhttps://saara-alysa.com/product/%F0%9F%94%A5-fire-within-womens-circle%F0%9F%94%A5/ \n  \nNo Refund after purchase
URL:https://saara-alysa.com/event/%f0%9f%94%a5-fire-within-womens-circle%f0%9f%94%a5/
ATTACH;FMTTYPE=image/png:https://saara-alysa.com/wp-content/uploads/2025/01/Screenshot-2025-01-20-at-17.37.14-e1737391123304.png
END:VEVENT
END:VCALENDAR