BEGIN:VCALENDAR
VERSION:2.0
PRODID:-// - ECPv6.15.20//NONSGML v1.0//EN
CALSCALE:GREGORIAN
METHOD:PUBLISH
X-ORIGINAL-URL:https://saara-alysa.com
X-WR-CALDESC:Events for 
REFRESH-INTERVAL;VALUE=DURATION:PT1H
X-Robots-Tag:noindex
X-PUBLISHED-TTL:PT1H
BEGIN:VTIMEZONE
TZID:UTC
BEGIN:STANDARD
TZOFFSETFROM:+0000
TZOFFSETTO:+0000
TZNAME:UTC
DTSTART:20240101T000000
END:STANDARD
END:VTIMEZONE
BEGIN:VEVENT
DTSTART;TZID=UTC:20250428T190000
DTEND;TZID=UTC:20250428T204500
DTSTAMP:20260422T221434
CREATED:20250222T093401Z
LAST-MODIFIED:20250424T093906Z
UID:7735-1745866800-1745873100@saara-alysa.com
SUMMARY:Ashtanga Full Primary
DESCRIPTION:This class follows the traditional Full Primary Series of Ashtanga yoga.\nThe sequence includes all postures from the full primary\, practiced in a set rhythm synchronized with the breath.\nThe session runs for approximately 1 hour and 45 minutes.\n\n\n    If this is your first class\, it is free! \n    Email me\n\n\n\n    Otherwise\, please  \n    Login\n\n\n  \nAshtanga Full Primary \n \n 
URL:https://saara-alysa.com/event/ashtanga-yoga-12/
CATEGORIES:Ashtanga
ATTACH;FMTTYPE=image/jpeg:https://saara-alysa.com/wp-content/uploads/2025/01/Saara-Yoga-7-e1738078503602.jpg
END:VEVENT
END:VCALENDAR