BEGIN:VCALENDAR
VERSION:2.0
PRODID:-// - ECPv6.15.20//NONSGML v1.0//EN
CALSCALE:GREGORIAN
METHOD:PUBLISH
X-ORIGINAL-URL:https://saara-alysa.com
X-WR-CALDESC:Events for 
REFRESH-INTERVAL;VALUE=DURATION:PT1H
X-Robots-Tag:noindex
X-PUBLISHED-TTL:PT1H
BEGIN:VTIMEZONE
TZID:UTC
BEGIN:STANDARD
TZOFFSETFROM:+0000
TZOFFSETTO:+0000
TZNAME:UTC
DTSTART:20240101T000000
END:STANDARD
END:VTIMEZONE
BEGIN:VEVENT
DTSTART;TZID=UTC:20250303T190000
DTEND;TZID=UTC:20250303T201500
DTSTAMP:20260422T233259
CREATED:20250131T212146Z
LAST-MODIFIED:20250131T212146Z
UID:7516-1741028400-1741032900@saara-alysa.com
SUMMARY:Ashtanga Yoga
DESCRIPTION:Experience the Guided Ashtanga Half Primary Yoga Class\, a dynamic practice rooted in the powerful Ashtanga Primary Series.  \n            This energizing sequence of postures is designed to enhance strength\, flexibility\, and breath awareness\, while deepening your connection between body\, breath\, and mind. \n\n\n    If this is your first class\, it is free! \n    Email me\n\n\n\n    Otherwise\, please  \n    Login
URL:https://saara-alysa.com/event/ashtanga-yoga-5/
CATEGORIES:Ashtanga
ATTACH;FMTTYPE=image/jpeg:https://saara-alysa.com/wp-content/uploads/2025/01/Saara-Yoga-7-e1738078503602.jpg
END:VEVENT
BEGIN:VEVENT
DTSTART;TZID=UTC:20250305T100000
DTEND;TZID=UTC:20250305T110000
DTSTAMP:20260422T233259
CREATED:20250131T212146Z
LAST-MODIFIED:20250131T212146Z
UID:7518-1741168800-1741172400@saara-alysa.com
SUMMARY:Energising Flow
DESCRIPTION:Awaken your body and mind with our Energizing Flow \, a dynamic yet soft practice that seamlessly blends breath\, movement\, and mindfulness to set a positive tone for your day. \n            Through focused movement and inner awareness\, you will be ready to embrace the day ahead with clarity and vitality. \n\n\n    If this is your first class\, it is free! \n    Email me\n\n\n\n    Otherwise\, please  \n    Login
URL:https://saara-alysa.com/event/energising-flow-5/
CATEGORIES:Energising Flow
ATTACH;FMTTYPE=image/jpeg:https://saara-alysa.com/wp-content/uploads/2025/01/Yoga4-scaled-e1738077427158.jpg
END:VEVENT
BEGIN:VEVENT
DTSTART;TZID=UTC:20250310T190000
DTEND;TZID=UTC:20250310T201500
DTSTAMP:20260422T233259
CREATED:20250131T212146Z
LAST-MODIFIED:20250131T212146Z
UID:7520-1741633200-1741637700@saara-alysa.com
SUMMARY:Ashtanga Yoga
DESCRIPTION:Experience the Guided Ashtanga Half Primary Yoga Class\, a dynamic practice rooted in the powerful Ashtanga Primary Series.  \n            This energizing sequence of postures is designed to enhance strength\, flexibility\, and breath awareness\, while deepening your connection between body\, breath\, and mind. \n\n\n    If this is your first class\, it is free! \n    Email me\n\n\n\n    Otherwise\, please  \n    Login
URL:https://saara-alysa.com/event/ashtanga-yoga-6/
CATEGORIES:Ashtanga
ATTACH;FMTTYPE=image/jpeg:https://saara-alysa.com/wp-content/uploads/2025/01/Saara-Yoga-7-e1738078503602.jpg
END:VEVENT
BEGIN:VEVENT
DTSTART;TZID=UTC:20250312T100000
DTEND;TZID=UTC:20250312T110000
DTSTAMP:20260422T233259
CREATED:20250131T212146Z
LAST-MODIFIED:20250131T212146Z
UID:7522-1741773600-1741777200@saara-alysa.com
SUMMARY:Energising Flow
DESCRIPTION:Awaken your body and mind with our Energizing Flow \, a dynamic yet soft practice that seamlessly blends breath\, movement\, and mindfulness to set a positive tone for your day. \n            Through focused movement and inner awareness\, you will be ready to embrace the day ahead with clarity and vitality. \n\n\n    If this is your first class\, it is free! \n    Email me\n\n\n\n    Otherwise\, please  \n    Login
URL:https://saara-alysa.com/event/energising-flow-6/
CATEGORIES:Energising Flow
ATTACH;FMTTYPE=image/jpeg:https://saara-alysa.com/wp-content/uploads/2025/01/Yoga4-scaled-e1738077427158.jpg
END:VEVENT
BEGIN:VEVENT
DTSTART;TZID=UTC:20250317T190000
DTEND;TZID=UTC:20250317T201500
DTSTAMP:20260422T233259
CREATED:20250131T212146Z
LAST-MODIFIED:20250131T212146Z
UID:7524-1742238000-1742242500@saara-alysa.com
SUMMARY:Ashtanga Yoga
DESCRIPTION:Experience the Guided Ashtanga Half Primary Yoga Class\, a dynamic practice rooted in the powerful Ashtanga Primary Series.  \n            This energizing sequence of postures is designed to enhance strength\, flexibility\, and breath awareness\, while deepening your connection between body\, breath\, and mind. \n\n\n    If this is your first class\, it is free! \n    Email me\n\n\n\n    Otherwise\, please  \n    Login
URL:https://saara-alysa.com/event/ashtanga-yoga-7/
CATEGORIES:Ashtanga
ATTACH;FMTTYPE=image/jpeg:https://saara-alysa.com/wp-content/uploads/2025/01/Saara-Yoga-7-e1738078503602.jpg
END:VEVENT
BEGIN:VEVENT
DTSTART;TZID=UTC:20250319T100000
DTEND;TZID=UTC:20250319T110000
DTSTAMP:20260422T233259
CREATED:20250131T212146Z
LAST-MODIFIED:20250131T212146Z
UID:7526-1742378400-1742382000@saara-alysa.com
SUMMARY:Energising Flow
DESCRIPTION:Awaken your body and mind with our Energizing Flow \, a dynamic yet soft practice that seamlessly blends breath\, movement\, and mindfulness to set a positive tone for your day. \n            Through focused movement and inner awareness\, you will be ready to embrace the day ahead with clarity and vitality. \n\n\n    If this is your first class\, it is free! \n    Email me\n\n\n\n    Otherwise\, please  \n    Login
URL:https://saara-alysa.com/event/energising-flow-7/
CATEGORIES:Energising Flow
ATTACH;FMTTYPE=image/jpeg:https://saara-alysa.com/wp-content/uploads/2025/01/Yoga4-scaled-e1738077427158.jpg
END:VEVENT
BEGIN:VEVENT
DTSTART;TZID=UTC:20250324T190000
DTEND;TZID=UTC:20250324T201500
DTSTAMP:20260422T233259
CREATED:20250131T212146Z
LAST-MODIFIED:20250131T212146Z
UID:7528-1742842800-1742847300@saara-alysa.com
SUMMARY:Ashtanga Yoga
DESCRIPTION:Experience the Guided Ashtanga Half Primary Yoga Class\, a dynamic practice rooted in the powerful Ashtanga Primary Series.  \n            This energizing sequence of postures is designed to enhance strength\, flexibility\, and breath awareness\, while deepening your connection between body\, breath\, and mind. \n\n\n    If this is your first class\, it is free! \n    Email me\n\n\n\n    Otherwise\, please  \n    Login
URL:https://saara-alysa.com/event/ashtanga-yoga-8/
CATEGORIES:Ashtanga
ATTACH;FMTTYPE=image/jpeg:https://saara-alysa.com/wp-content/uploads/2025/01/Saara-Yoga-7-e1738078503602.jpg
END:VEVENT
BEGIN:VEVENT
DTSTART;TZID=UTC:20250326T100000
DTEND;TZID=UTC:20250326T110000
DTSTAMP:20260422T233259
CREATED:20250131T212146Z
LAST-MODIFIED:20250131T212147Z
UID:7530-1742983200-1742986800@saara-alysa.com
SUMMARY:Energising Flow
DESCRIPTION:Awaken your body and mind with our Energizing Flow \, a dynamic yet soft practice that seamlessly blends breath\, movement\, and mindfulness to set a positive tone for your day. \n            Through focused movement and inner awareness\, you will be ready to embrace the day ahead with clarity and vitality. \n\n\n    If this is your first class\, it is free! \n    Email me\n\n\n\n    Otherwise\, please  \n    Login
URL:https://saara-alysa.com/event/energising-flow-8/
CATEGORIES:Energising Flow
ATTACH;FMTTYPE=image/jpeg:https://saara-alysa.com/wp-content/uploads/2025/01/Yoga4-scaled-e1738077427158.jpg
END:VEVENT
BEGIN:VEVENT
DTSTART;TZID=UTC:20250331T190000
DTEND;TZID=UTC:20250331T201500
DTSTAMP:20260422T233259
CREATED:20250324T085026Z
LAST-MODIFIED:20250324T085026Z
UID:7869-1743447600-1743452100@saara-alysa.com
SUMMARY:Ashtanga Yoga
DESCRIPTION:Experience the Guided Ashtanga Half Primary Yoga Class\, a dynamic practice rooted in the powerful Ashtanga Primary Series.  \n            This energizing sequence of postures is designed to enhance strength\, flexibility\, and breath awareness\, while deepening your connection between body\, breath\, and mind. \n\n\n    If this is your first class\, it is free! \n    Email me\n\n\n\n    Otherwise\, please  \n    Login
URL:https://saara-alysa.com/event/ashtanga-yoga-13/
CATEGORIES:Ashtanga
ATTACH;FMTTYPE=image/jpeg:https://saara-alysa.com/wp-content/uploads/2025/01/Saara-Yoga-7-e1738078503602.jpg
END:VEVENT
END:VCALENDAR