BEGIN:VCALENDAR
VERSION:2.0
PRODID:-// - ECPv6.15.20//NONSGML v1.0//EN
CALSCALE:GREGORIAN
METHOD:PUBLISH
X-ORIGINAL-URL:https://saara-alysa.com
X-WR-CALDESC:Events for 
REFRESH-INTERVAL;VALUE=DURATION:PT1H
X-Robots-Tag:noindex
X-PUBLISHED-TTL:PT1H
BEGIN:VTIMEZONE
TZID:UTC
BEGIN:STANDARD
TZOFFSETFROM:+0000
TZOFFSETTO:+0000
TZNAME:UTC
DTSTART:20240101T000000
END:STANDARD
END:VTIMEZONE
BEGIN:VEVENT
DTSTART;TZID=UTC:20250505T190000
DTEND;TZID=UTC:20250505T201500
DTSTAMP:20260422T204932
CREATED:20250428T093044Z
LAST-MODIFIED:20250428T093044Z
UID:7938-1746471600-1746476100@saara-alysa.com
SUMMARY:Ashtanga Yoga
DESCRIPTION:Experience the Guided Ashtanga Half Primary Yoga Class\, a dynamic practice rooted in the powerful Ashtanga Primary Series.  \n            This energizing sequence of postures is designed to enhance strength\, flexibility\, and breath awareness\, while deepening your connection between body\, breath\, and mind. \n\n\n    If this is your first class\, it is free! \n    Email me\n\n\n\n    Otherwise\, please  \n    Login
URL:https://saara-alysa.com/event/ashtanga-yoga-14/
CATEGORIES:Ashtanga
ATTACH;FMTTYPE=image/jpeg:https://saara-alysa.com/wp-content/uploads/2025/01/Saara-Yoga-7-e1738078503602.jpg
END:VEVENT
BEGIN:VEVENT
DTSTART;TZID=UTC:20250512T190000
DTEND;TZID=UTC:20250512T201500
DTSTAMP:20260422T204932
CREATED:20250428T093044Z
LAST-MODIFIED:20250428T093045Z
UID:7940-1747076400-1747080900@saara-alysa.com
SUMMARY:Ashtanga Yoga
DESCRIPTION:Experience the Guided Ashtanga Half Primary Yoga Class\, a dynamic practice rooted in the powerful Ashtanga Primary Series.  \n            This energizing sequence of postures is designed to enhance strength\, flexibility\, and breath awareness\, while deepening your connection between body\, breath\, and mind. \n\n\n    If this is your first class\, it is free! \n    Email me\n\n\n\n    Otherwise\, please  \n    Login
URL:https://saara-alysa.com/event/ashtanga-yoga-15/
CATEGORIES:Ashtanga
ATTACH;FMTTYPE=image/jpeg:https://saara-alysa.com/wp-content/uploads/2025/01/Saara-Yoga-7-e1738078503602.jpg
END:VEVENT
BEGIN:VEVENT
DTSTART;TZID=UTC:20250514T100000
DTEND;TZID=UTC:20250514T110000
DTSTAMP:20260422T204932
CREATED:20250428T093045Z
LAST-MODIFIED:20250428T093045Z
UID:7948-1747216800-1747220400@saara-alysa.com
SUMMARY:Energising Flow
DESCRIPTION:Awaken your body and mind with our Energizing Flow \, a dynamic yet soft practice that seamlessly blends breath\, movement\, and mindfulness to set a positive tone for your day. \n            Through focused movement and inner awareness\, you will be ready to embrace the day ahead with clarity and vitality. \n\n\n    If this is your first class\, it is free! \n    Email me\n\n\n\n    Otherwise\, please  \n    Login
URL:https://saara-alysa.com/event/energising-flow-14/
CATEGORIES:Energising Flow
ATTACH;FMTTYPE=image/jpeg:https://saara-alysa.com/wp-content/uploads/2025/01/Yoga4-scaled-e1738077427158.jpg
END:VEVENT
BEGIN:VEVENT
DTSTART;TZID=UTC:20250526T190000
DTEND;TZID=UTC:20250526T201500
DTSTAMP:20260422T204932
CREATED:20250428T093045Z
LAST-MODIFIED:20250428T093045Z
UID:7944-1748286000-1748290500@saara-alysa.com
SUMMARY:Ashtanga Yoga
DESCRIPTION:Experience the Guided Ashtanga Half Primary Yoga Class\, a dynamic practice rooted in the powerful Ashtanga Primary Series.  \n            This energizing sequence of postures is designed to enhance strength\, flexibility\, and breath awareness\, while deepening your connection between body\, breath\, and mind. \n\n\n    If this is your first class\, it is free! \n    Email me\n\n\n\n    Otherwise\, please  \n    Login
URL:https://saara-alysa.com/event/ashtanga-yoga-17/
CATEGORIES:Ashtanga
ATTACH;FMTTYPE=image/jpeg:https://saara-alysa.com/wp-content/uploads/2025/01/Saara-Yoga-7-e1738078503602.jpg
END:VEVENT
BEGIN:VEVENT
DTSTART;TZID=UTC:20250528T100000
DTEND;TZID=UTC:20250528T110000
DTSTAMP:20260422T204932
CREATED:20250428T093045Z
LAST-MODIFIED:20250428T093045Z
UID:7952-1748426400-1748430000@saara-alysa.com
SUMMARY:Energising Flow
DESCRIPTION:Awaken your body and mind with our Energizing Flow \, a dynamic yet soft practice that seamlessly blends breath\, movement\, and mindfulness to set a positive tone for your day. \n            Through focused movement and inner awareness\, you will be ready to embrace the day ahead with clarity and vitality. \n\n\n    If this is your first class\, it is free! \n    Email me\n\n\n\n    Otherwise\, please  \n    Login
URL:https://saara-alysa.com/event/energising-flow-16/
CATEGORIES:Energising Flow
ATTACH;FMTTYPE=image/jpeg:https://saara-alysa.com/wp-content/uploads/2025/01/Yoga4-scaled-e1738077427158.jpg
END:VEVENT
END:VCALENDAR